BEGIN:VCALENDAR
VERSION:2.0
PRODID:-//Little Learners ~ Calabasas Klubhouse Preschool - ECPv6.15.20//NONSGML v1.0//EN
CALSCALE:GREGORIAN
METHOD:PUBLISH
X-WR-CALNAME:Little Learners ~ Calabasas Klubhouse Preschool
X-ORIGINAL-URL:https://calabasasklubhouse.org
X-WR-CALDESC:Events for Little Learners ~ Calabasas Klubhouse Preschool
REFRESH-INTERVAL;VALUE=DURATION:PT1H
X-Robots-Tag:noindex
X-PUBLISHED-TTL:PT1H
BEGIN:VTIMEZONE
TZID:UTC
BEGIN:STANDARD
TZOFFSETFROM:+0000
TZOFFSETTO:+0000
TZNAME:UTC
DTSTART:20250101T000000
END:STANDARD
END:VTIMEZONE
BEGIN:VEVENT
DTSTART;VALUE=DATE:20260510
DTEND;VALUE=DATE:20260511
DTSTAMP:20260424T155113
CREATED:20220109T062356Z
LAST-MODIFIED:20250803T182816Z
UID:1885-1778371200-1778457599@calabasasklubhouse.org
SUMMARY:Mother's Day
DESCRIPTION:Happy Mother’s Day
URL:https://calabasasklubhouse.org/calendar/mothers-day/
ATTACH;FMTTYPE=image/jpeg:https://calabasasklubhouse.org/wp-content/uploads/2019/01/IMG_1169.jpg
END:VEVENT
BEGIN:VEVENT
DTSTART;VALUE=DATE:20260525
DTEND;VALUE=DATE:20260526
DTSTAMP:20260424T155113
CREATED:20200116T220138Z
LAST-MODIFIED:20250803T182659Z
UID:1153-1779667200-1779753599@calabasasklubhouse.org
SUMMARY:Memorial Day (School Closed)
DESCRIPTION:Memorial Day- No School
URL:https://calabasasklubhouse.org/calendar/memorial-day-school-closed/
ATTACH;FMTTYPE=image/png:https://calabasasklubhouse.org/wp-content/uploads/2019/03/memorial-day.png
END:VEVENT
END:VCALENDAR