BEGIN:VCALENDAR
VERSION:2.0
PRODID:-//Little Learners ~ Calabasas Klubhouse Preschool - ECPv6.15.20//NONSGML v1.0//EN
CALSCALE:GREGORIAN
METHOD:PUBLISH
X-WR-CALNAME:Little Learners ~ Calabasas Klubhouse Preschool
X-ORIGINAL-URL:https://calabasasklubhouse.org
X-WR-CALDESC:Events for Little Learners ~ Calabasas Klubhouse Preschool
REFRESH-INTERVAL;VALUE=DURATION:PT1H
X-Robots-Tag:noindex
X-PUBLISHED-TTL:PT1H
BEGIN:VTIMEZONE
TZID:UTC
BEGIN:STANDARD
TZOFFSETFROM:+0000
TZOFFSETTO:+0000
TZNAME:UTC
DTSTART:20240101T000000
END:STANDARD
END:VTIMEZONE
BEGIN:VEVENT
DTSTART;VALUE=DATE:20250830
DTEND;VALUE=DATE:20260201
DTSTAMP:20260425T002117
CREATED:20180817T043853Z
LAST-MODIFIED:20250803T183616Z
UID:439-1756512000-1769903999@calabasasklubhouse.org
SUMMARY:Klubhouse Spirit Shirt Day
DESCRIPTION:Klubhouse Spirit Shirt Day- Wear Your School Shirt Today
URL:https://calabasasklubhouse.org/calendar/klubhouse-spirit-shirt-day-2/
ATTACH;FMTTYPE=image/png:https://calabasasklubhouse.org/wp-content/uploads/2018/08/Screen-Shot-2022-09-22-at-9.25.41-PM.png
END:VEVENT
BEGIN:VEVENT
DTSTART;VALUE=DATE:20250901
DTEND;VALUE=DATE:20250902
DTSTAMP:20260425T002117
CREATED:20180723T022922Z
LAST-MODIFIED:20250103T000820Z
UID:204-1756684800-1756771199@calabasasklubhouse.org
SUMMARY:Labor Day (No School)
DESCRIPTION:Labor Day: No School
URL:https://calabasasklubhouse.org/calendar/labor-day/
END:VEVENT
BEGIN:VEVENT
DTSTART;VALUE=DATE:20250905
DTEND;VALUE=DATE:20260321
DTSTAMP:20260425T002117
CREATED:20220923T044148Z
LAST-MODIFIED:20250803T183640Z
UID:1996-1757030400-1774051199@calabasasklubhouse.org
SUMMARY:Klubhouse Spirit Shirt Day
DESCRIPTION:Klubhouse Spirit Shirt Day- Wear Your School Shirt Today
URL:https://calabasasklubhouse.org/calendar/klubhouse-spirit-shirt-day-7/
ATTACH;FMTTYPE=image/png:https://calabasasklubhouse.org/wp-content/uploads/2018/08/Screen-Shot-2022-09-22-at-9.25.41-PM.png
END:VEVENT
BEGIN:VEVENT
DTSTART;VALUE=DATE:20250908
DTEND;VALUE=DATE:20250913
DTSTAMP:20260425T002117
CREATED:20190129T065510Z
LAST-MODIFIED:20250803T181428Z
UID:855-1757289600-1757721599@calabasasklubhouse.org
SUMMARY:Fall School Photos
DESCRIPTION:Fall School Photos
URL:https://calabasasklubhouse.org/calendar/spring-school-photos/
END:VEVENT
BEGIN:VEVENT
DTSTART;TZID=UTC:20250909T100000
DTEND;TZID=UTC:20250909T103000
DTSTAMP:20260425T002117
CREATED:20220923T050545Z
LAST-MODIFIED:20250803T184313Z
UID:2016-1757412000-1757413800@calabasasklubhouse.org
SUMMARY:School Tours
DESCRIPTION:We will be holding school tours on most Tuesdays and Thursdays at 10am. Reservations must be made in order to attend a tour. Click on the Tours tab to sign up.
URL:https://calabasasklubhouse.org/calendar/school-tours-8/
ATTACH;FMTTYPE=image/jpeg:https://calabasasklubhouse.org/wp-content/uploads/2020/01/Calabasas-Klubhouse-Tours-2022-23.jpg
END:VEVENT
BEGIN:VEVENT
DTSTART;VALUE=DATE:20250911
DTEND;VALUE=DATE:20250912
DTSTAMP:20260425T002117
CREATED:20220109T063203Z
LAST-MODIFIED:20250102T232541Z
UID:1895-1757548800-1757635199@calabasasklubhouse.org
SUMMARY:Patriot Day
DESCRIPTION:
URL:https://calabasasklubhouse.org/calendar/patriot-day/
ATTACH;FMTTYPE=image/jpeg:https://calabasasklubhouse.org/wp-content/uploads/2019/01/IMG_9046.jpg
END:VEVENT
BEGIN:VEVENT
DTSTART;TZID=UTC:20250911T100000
DTEND;TZID=UTC:20250911T103000
DTSTAMP:20260425T002117
CREATED:20220923T050718Z
LAST-MODIFIED:20250803T184505Z
UID:2020-1757584800-1757586600@calabasasklubhouse.org
SUMMARY:School Tours
DESCRIPTION:We will be holding school tours on most Tuesdays and Thursdays at 10am. Reservations must be made in order to attend a tour. Click on the Tours tab to sign up.
URL:https://calabasasklubhouse.org/calendar/school-tours-10/
ATTACH;FMTTYPE=image/jpeg:https://calabasasklubhouse.org/wp-content/uploads/2020/01/Calabasas-Klubhouse-Tours-2022-23.jpg
END:VEVENT
BEGIN:VEVENT
DTSTART;VALUE=DATE:20250912
DTEND;VALUE=DATE:20250913
DTSTAMP:20260425T002117
CREATED:20180817T044811Z
LAST-MODIFIED:20250803T184402Z
UID:453-1757635200-1757721599@calabasasklubhouse.org
SUMMARY:Klubhouse Spirit Shirt Day
DESCRIPTION:Klubhouse Spirit Shirt Day- Wear Your School Shirt Today
URL:https://calabasasklubhouse.org/calendar/klubhouse-spirit-shirt-day-6/
ATTACH;FMTTYPE=image/png:https://calabasasklubhouse.org/wp-content/uploads/2018/08/Screen-Shot-2022-09-22-at-9.25.41-PM.png
END:VEVENT
BEGIN:VEVENT
DTSTART;VALUE=DATE:20250917
DTEND;VALUE=DATE:20250918
DTSTAMP:20260425T002117
CREATED:20200207T233500Z
LAST-MODIFIED:20250803T184834Z
UID:1206-1758067200-1758153599@calabasasklubhouse.org
SUMMARY:Farmer's Market
DESCRIPTION:Today we will have a Farmer’s Market. Each item is $1. Money can be given to your child’s teacher at drop off.
URL:https://calabasasklubhouse.org/calendar/farmers-market-3/
ATTACH;FMTTYPE=image/jpeg:https://calabasasklubhouse.org/wp-content/uploads/2020/02/farmers-market.jpg
END:VEVENT
BEGIN:VEVENT
DTSTART;VALUE=DATE:20250919
DTEND;VALUE=DATE:20250920
DTSTAMP:20260425T002117
CREATED:20180817T043812Z
LAST-MODIFIED:20250803T184551Z
UID:437-1758240000-1758326399@calabasasklubhouse.org
SUMMARY:Klubhouse Spirit Shirt Day
DESCRIPTION:Klubhouse Spirit Shirt Day- Wear Your School Shirt Today
URL:https://calabasasklubhouse.org/calendar/klubhouse-spirit-shirt-day/
ATTACH;FMTTYPE=image/png:https://calabasasklubhouse.org/wp-content/uploads/2018/08/Screen-Shot-2022-09-22-at-9.25.41-PM.png
END:VEVENT
BEGIN:VEVENT
DTSTART;VALUE=DATE:20250926
DTEND;VALUE=DATE:20250927
DTSTAMP:20260425T002117
CREATED:20180817T044416Z
LAST-MODIFIED:20250803T184630Z
UID:445-1758844800-1758931199@calabasasklubhouse.org
SUMMARY:Klubhouse Spirit Shirt Day
DESCRIPTION:Klubhouse Spirit Shirt Day- Wear Your School Shirt Today
URL:https://calabasasklubhouse.org/calendar/klubhouse-spirit-shirt-day-4/
ATTACH;FMTTYPE=image/png:https://calabasasklubhouse.org/wp-content/uploads/2018/08/Screen-Shot-2022-09-22-at-9.25.41-PM.png
END:VEVENT
END:VCALENDAR