BEGIN:VCALENDAR
VERSION:2.0
PRODID:-//Little Learners ~ Calabasas Klubhouse Preschool - ECPv6.15.20//NONSGML v1.0//EN
CALSCALE:GREGORIAN
METHOD:PUBLISH
X-WR-CALNAME:Little Learners ~ Calabasas Klubhouse Preschool
X-ORIGINAL-URL:https://calabasasklubhouse.org
X-WR-CALDESC:Events for Little Learners ~ Calabasas Klubhouse Preschool
REFRESH-INTERVAL;VALUE=DURATION:PT1H
X-Robots-Tag:noindex
X-PUBLISHED-TTL:PT1H
BEGIN:VTIMEZONE
TZID:UTC
BEGIN:STANDARD
TZOFFSETFROM:+0000
TZOFFSETTO:+0000
TZNAME:UTC
DTSTART:20240101T000000
END:STANDARD
END:VTIMEZONE
BEGIN:VEVENT
DTSTART;VALUE=DATE:20250801
DTEND;VALUE=DATE:20250802
DTSTAMP:20260425T013925
CREATED:20200116T215807Z
LAST-MODIFIED:20250803T182524Z
UID:1148-1754006400-1754092799@calabasasklubhouse.org
SUMMARY:Graduation 2025
DESCRIPTION:Preschool Graduation
URL:https://calabasasklubhouse.org/calendar/pre-k-graduation-2/
END:VEVENT
BEGIN:VEVENT
DTSTART;VALUE=DATE:20250804
DTEND;VALUE=DATE:20250806
DTSTAMP:20260425T013925
CREATED:20190714T002122Z
LAST-MODIFIED:20250803T185151Z
UID:1005-1754265600-1754438399@calabasasklubhouse.org
SUMMARY:School Closed- Teacher Prep Days
DESCRIPTION:
URL:https://calabasasklubhouse.org/calendar/school-closed-teacher-prep-days/
ATTACH;FMTTYPE=image/png:https://calabasasklubhouse.org/wp-content/uploads/2019/07/no-school.png
END:VEVENT
BEGIN:VEVENT
DTSTART;VALUE=DATE:20250804
DTEND;VALUE=DATE:20250809
DTSTAMP:20260425T013925
CREATED:20210602T065646Z
LAST-MODIFIED:20250803T183131Z
UID:1786-1754265600-1754697599@calabasasklubhouse.org
SUMMARY:Teacher Prep Week
DESCRIPTION:Closed for Teacher Prep Week
URL:https://calabasasklubhouse.org/calendar/teacher-prep-week/
ATTACH;FMTTYPE=image/jpeg:https://calabasasklubhouse.org/wp-content/uploads/2021/06/Prep-Week-Image.jpg
END:VEVENT
BEGIN:VEVENT
DTSTART;TZID=UTC:20250808T100000
DTEND;TZID=UTC:20250808T133000
DTSTAMP:20260425T013925
CREATED:20200130T214218Z
LAST-MODIFIED:20250803T185633Z
UID:1186-1754647200-1754659800@calabasasklubhouse.org
SUMMARY:Meet and Greet
DESCRIPTION:We are having a meet and greet for our new and current families. Come meet your teachers and see your classrooms. These are time specific meet and greets and the information was sent to each family in their Welcome email.
URL:https://calabasasklubhouse.org/calendar/open-house-and-meet-and-greet/
ATTACH;FMTTYPE=image/jpeg:https://calabasasklubhouse.org/wp-content/uploads/2020/01/meet-and-greet.jpg
END:VEVENT
BEGIN:VEVENT
DTSTART;TZID=UTC:20250811T073000
DTEND;TZID=UTC:20250811T173000
DTSTAMP:20260425T013925
CREATED:20180723T022211Z
LAST-MODIFIED:20250103T000549Z
UID:202-1754897400-1754933400@calabasasklubhouse.org
SUMMARY:First Day of School
DESCRIPTION:First Day of School for the 2025-26 School Year
URL:https://calabasasklubhouse.org/calendar/first-day-of-school/
ATTACH;FMTTYPE=image/jpeg:https://calabasasklubhouse.org/wp-content/uploads/2020/04/first-day-of-school.jpg
END:VEVENT
BEGIN:VEVENT
DTSTART;VALUE=DATE:20250815
DTEND;VALUE=DATE:20250816
DTSTAMP:20260425T013925
CREATED:20180817T044451Z
LAST-MODIFIED:20250803T183246Z
UID:447-1755216000-1755302399@calabasasklubhouse.org
SUMMARY:Klubhouse Spirit Shirt Day
DESCRIPTION:Klubhouse Spirit Shirt Day- Wear Your School Shirt Today
URL:https://calabasasklubhouse.org/calendar/klubhouse-spirit-shirt-day-5/
ATTACH;FMTTYPE=image/png:https://calabasasklubhouse.org/wp-content/uploads/2018/08/Screen-Shot-2022-09-22-at-9.25.41-PM.png
END:VEVENT
BEGIN:VEVENT
DTSTART;VALUE=DATE:20250823
DTEND;VALUE=DATE:20250824
DTSTAMP:20260425T013925
CREATED:20180817T044340Z
LAST-MODIFIED:20250803T183503Z
UID:443-1755907200-1755993599@calabasasklubhouse.org
SUMMARY:Klubhouse Spirit Shirt Day
DESCRIPTION:Klubhouse Spirit Shirt Day- Wear Your School Shirt Today
URL:https://calabasasklubhouse.org/calendar/klubhouse-spirit-shirt-day-3/
ATTACH;FMTTYPE=image/png:https://calabasasklubhouse.org/wp-content/uploads/2018/08/Screen-Shot-2022-09-22-at-9.25.41-PM.png
END:VEVENT
BEGIN:VEVENT
DTSTART;VALUE=DATE:20250830
DTEND;VALUE=DATE:20260201
DTSTAMP:20260425T013925
CREATED:20180817T043853Z
LAST-MODIFIED:20250803T183616Z
UID:439-1756512000-1769903999@calabasasklubhouse.org
SUMMARY:Klubhouse Spirit Shirt Day
DESCRIPTION:Klubhouse Spirit Shirt Day- Wear Your School Shirt Today
URL:https://calabasasklubhouse.org/calendar/klubhouse-spirit-shirt-day-2/
ATTACH;FMTTYPE=image/png:https://calabasasklubhouse.org/wp-content/uploads/2018/08/Screen-Shot-2022-09-22-at-9.25.41-PM.png
END:VEVENT
END:VCALENDAR