BEGIN:VCALENDAR
VERSION:2.0
PRODID:-//Little Learners ~ Calabasas Klubhouse Preschool - ECPv6.15.20//NONSGML v1.0//EN
CALSCALE:GREGORIAN
METHOD:PUBLISH
X-ORIGINAL-URL:https://calabasasklubhouse.org
X-WR-CALDESC:Events for Little Learners ~ Calabasas Klubhouse Preschool
REFRESH-INTERVAL;VALUE=DURATION:PT1H
X-Robots-Tag:noindex
X-PUBLISHED-TTL:PT1H
BEGIN:VTIMEZONE
TZID:UTC
BEGIN:STANDARD
TZOFFSETFROM:+0000
TZOFFSETTO:+0000
TZNAME:UTC
DTSTART:20250101T000000
END:STANDARD
END:VTIMEZONE
BEGIN:VEVENT
DTSTART;VALUE=DATE:20260422
DTEND;VALUE=DATE:20260423
DTSTAMP:20260424T155139
CREATED:20220109T062955Z
LAST-MODIFIED:20250803T183704Z
UID:1893-1776816000-1776902399@calabasasklubhouse.org
SUMMARY:Happy Earth Day
DESCRIPTION:Happy Earth Day
URL:https://calabasasklubhouse.org/calendar/happy-earth-day/
ATTACH;FMTTYPE=image/jpeg:https://calabasasklubhouse.org/wp-content/uploads/2019/01/IMG_4691.jpg
END:VEVENT
END:VCALENDAR