BEGIN:VCALENDAR
VERSION:2.0
PRODID:-//Little Learners ~ Calabasas Klubhouse Preschool - ECPv6.15.20//NONSGML v1.0//EN
CALSCALE:GREGORIAN
METHOD:PUBLISH
X-ORIGINAL-URL:https://calabasasklubhouse.org
X-WR-CALDESC:Events for Little Learners ~ Calabasas Klubhouse Preschool
REFRESH-INTERVAL;VALUE=DURATION:PT1H
X-Robots-Tag:noindex
X-PUBLISHED-TTL:PT1H
BEGIN:VTIMEZONE
TZID:UTC
BEGIN:STANDARD
TZOFFSETFROM:+0000
TZOFFSETTO:+0000
TZNAME:UTC
DTSTART:20250101T000000
END:STANDARD
END:VTIMEZONE
BEGIN:VEVENT
DTSTART;VALUE=DATE:20260401
DTEND;VALUE=DATE:20260402
DTSTAMP:20260424T155140
CREATED:20200405T065150Z
LAST-MODIFIED:20250803T183428Z
UID:1302-1775001600-1775087999@calabasasklubhouse.org
SUMMARY:Passover
DESCRIPTION:Happy Passover
URL:https://calabasasklubhouse.org/calendar/passover/
ATTACH;FMTTYPE=image/jpeg:https://calabasasklubhouse.org/wp-content/uploads/2020/04/Happy-Passover.jpg
END:VEVENT
END:VCALENDAR