BEGIN:VCALENDAR
VERSION:2.0
PRODID:-//Little Learners ~ Calabasas Klubhouse Preschool - ECPv6.15.20//NONSGML v1.0//EN
CALSCALE:GREGORIAN
METHOD:PUBLISH
X-ORIGINAL-URL:https://calabasasklubhouse.org
X-WR-CALDESC:Events for Little Learners ~ Calabasas Klubhouse Preschool
REFRESH-INTERVAL;VALUE=DURATION:PT1H
X-Robots-Tag:noindex
X-PUBLISHED-TTL:PT1H
BEGIN:VTIMEZONE
TZID:UTC
BEGIN:STANDARD
TZOFFSETFROM:+0000
TZOFFSETTO:+0000
TZNAME:UTC
DTSTART:20240101T000000
END:STANDARD
END:VTIMEZONE
BEGIN:VEVENT
DTSTART;VALUE=DATE:20250830
DTEND;VALUE=DATE:20260201
DTSTAMP:20260424T184353
CREATED:20180817T043853Z
LAST-MODIFIED:20250803T183616Z
UID:439-1756512000-1769903999@calabasasklubhouse.org
SUMMARY:Klubhouse Spirit Shirt Day
DESCRIPTION:Klubhouse Spirit Shirt Day- Wear Your School Shirt Today
URL:https://calabasasklubhouse.org/calendar/klubhouse-spirit-shirt-day-2/
ATTACH;FMTTYPE=image/png:https://calabasasklubhouse.org/wp-content/uploads/2018/08/Screen-Shot-2022-09-22-at-9.25.41-PM.png
END:VEVENT
BEGIN:VEVENT
DTSTART;VALUE=DATE:20250905
DTEND;VALUE=DATE:20260321
DTSTAMP:20260424T184353
CREATED:20220923T044148Z
LAST-MODIFIED:20250803T183640Z
UID:1996-1757030400-1774051199@calabasasklubhouse.org
SUMMARY:Klubhouse Spirit Shirt Day
DESCRIPTION:Klubhouse Spirit Shirt Day- Wear Your School Shirt Today
URL:https://calabasasklubhouse.org/calendar/klubhouse-spirit-shirt-day-7/
ATTACH;FMTTYPE=image/png:https://calabasasklubhouse.org/wp-content/uploads/2018/08/Screen-Shot-2022-09-22-at-9.25.41-PM.png
END:VEVENT
BEGIN:VEVENT
DTSTART;VALUE=DATE:20260126
DTEND;VALUE=DATE:20260127
DTSTAMP:20260424T184353
CREATED:20191021T173112Z
LAST-MODIFIED:20250803T185042Z
UID:1118-1769385600-1769471999@calabasasklubhouse.org
SUMMARY:Staff Development Day (School Closed)
DESCRIPTION:Staff Development Day (School Closed)
URL:https://calabasasklubhouse.org/calendar/staff-development-day-school-closed/
ATTACH;FMTTYPE=image/png:https://calabasasklubhouse.org/wp-content/uploads/2020/01/staff-development-day-colorful.png
END:VEVENT
END:VCALENDAR