BEGIN:VCALENDAR
VERSION:2.0
PRODID:-//Little Learners ~ Calabasas Klubhouse Preschool - ECPv6.15.20//NONSGML v1.0//EN
CALSCALE:GREGORIAN
METHOD:PUBLISH
X-ORIGINAL-URL:https://calabasasklubhouse.org
X-WR-CALDESC:Events for Little Learners ~ Calabasas Klubhouse Preschool
REFRESH-INTERVAL;VALUE=DURATION:PT1H
X-Robots-Tag:noindex
X-PUBLISHED-TTL:PT1H
BEGIN:VTIMEZONE
TZID:UTC
BEGIN:STANDARD
TZOFFSETFROM:+0000
TZOFFSETTO:+0000
TZNAME:UTC
DTSTART:20240101T000000
END:STANDARD
END:VTIMEZONE
BEGIN:VEVENT
DTSTART;VALUE=DATE:20250804
DTEND;VALUE=DATE:20250809
DTSTAMP:20260425T030928
CREATED:20210602T065646Z
LAST-MODIFIED:20250803T183131Z
UID:1786-1754265600-1754697599@calabasasklubhouse.org
SUMMARY:Teacher Prep Week
DESCRIPTION:Closed for Teacher Prep Week
URL:https://calabasasklubhouse.org/calendar/teacher-prep-week/
ATTACH;FMTTYPE=image/jpeg:https://calabasasklubhouse.org/wp-content/uploads/2021/06/Prep-Week-Image.jpg
END:VEVENT
BEGIN:VEVENT
DTSTART;TZID=UTC:20250808T100000
DTEND;TZID=UTC:20250808T133000
DTSTAMP:20260425T030928
CREATED:20200130T214218Z
LAST-MODIFIED:20250803T185633Z
UID:1186-1754647200-1754659800@calabasasklubhouse.org
SUMMARY:Meet and Greet
DESCRIPTION:We are having a meet and greet for our new and current families. Come meet your teachers and see your classrooms. These are time specific meet and greets and the information was sent to each family in their Welcome email.
URL:https://calabasasklubhouse.org/calendar/open-house-and-meet-and-greet/
ATTACH;FMTTYPE=image/jpeg:https://calabasasklubhouse.org/wp-content/uploads/2020/01/meet-and-greet.jpg
END:VEVENT
END:VCALENDAR