BEGIN:VCALENDAR
VERSION:2.0
PRODID:-//Little Learners ~ Calabasas Klubhouse Preschool - ECPv6.15.20//NONSGML v1.0//EN
CALSCALE:GREGORIAN
METHOD:PUBLISH
X-ORIGINAL-URL:https://calabasasklubhouse.org
X-WR-CALDESC:Events for Little Learners ~ Calabasas Klubhouse Preschool
REFRESH-INTERVAL;VALUE=DURATION:PT1H
X-Robots-Tag:noindex
X-PUBLISHED-TTL:PT1H
BEGIN:VTIMEZONE
TZID:UTC
BEGIN:STANDARD
TZOFFSETFROM:+0000
TZOFFSETTO:+0000
TZNAME:UTC
DTSTART:20240101T000000
END:STANDARD
END:VTIMEZONE
BEGIN:VEVENT
DTSTART;VALUE=DATE:20250124
DTEND;VALUE=DATE:20250125
DTSTAMP:20260425T133705
CREATED:20181206T054859Z
LAST-MODIFIED:20250103T000116Z
UID:646-1737676800-1737763199@calabasasklubhouse.org
SUMMARY:General Public Enrollment
DESCRIPTION:***Enrollment for everyone begins Friday\, January 24\, 2025. Information on how enrollment will work will be posted on Monday\, January 6th*** \n  \n  \n  \nOur gates open up at 7am for staff to open the school and prep for the day. Around 7:30 am we will distribute numbers\, enrollment sheets\, and other pertinent information for the 2024-25 school year. People can wait in line or come back at 9:30 am. Beginning at 9:30 am we will take paperwork (in numerical order). If we become fully enrolled on CALABASAS RESIDENT enrollment day on January 18\, 2024\, a waitlist will be started. A parent\, grandparent\, friend\, or authorized representative can fill out the enrollment and credit card processing form (for the registration fee). \nEnrollment will be held in person beginning at 9:30am. \nCalabasas residents must bring a current months utility bill or HOA statement with the name listed on their enrollment paperwork. \nCurrent Calabasas Klubhouse families have priority to re-enroll before we open up remaining spaces to Calabasas residents and the general public. Please note that space is limited within our 5 classrooms based on our licensed capacity. \nPlease email us at info@calabasasklubhouse.org for more info!
URL:https://calabasasklubhouse.org/calendar/new-family-resident-enrollment/
ATTACH;FMTTYPE=image/jpeg:https://calabasasklubhouse.org/wp-content/uploads/2018/12/General-Enrollment-1.jpg
END:VEVENT
END:VCALENDAR