BEGIN:VCALENDAR
VERSION:2.0
PRODID:-//Little Learners ~ Calabasas Klubhouse Preschool - ECPv6.15.20//NONSGML v1.0//EN
CALSCALE:GREGORIAN
METHOD:PUBLISH
X-WR-CALNAME:Little Learners ~ Calabasas Klubhouse Preschool
X-ORIGINAL-URL:https://calabasasklubhouse.org
X-WR-CALDESC:Events for Little Learners ~ Calabasas Klubhouse Preschool
REFRESH-INTERVAL;VALUE=DURATION:PT1H
X-Robots-Tag:noindex
X-PUBLISHED-TTL:PT1H
BEGIN:VTIMEZONE
TZID:UTC
BEGIN:STANDARD
TZOFFSETFROM:+0000
TZOFFSETTO:+0000
TZNAME:UTC
DTSTART:20240101T000000
END:STANDARD
END:VTIMEZONE
BEGIN:VEVENT
DTSTART;VALUE=DATE:20250123
DTEND;VALUE=DATE:20250124
DTSTAMP:20260425T133544
CREATED:20200116T220455Z
LAST-MODIFIED:20250103T000235Z
UID:1157-1737590400-1737676799@calabasasklubhouse.org
SUMMARY:Enrollment for Calabasas Residents
DESCRIPTION:Calabasas residents may enroll for the 2025-26 school year beginning Thursday\, January 23\, 2025. \n  \n****DETAILS ON HOW REGISTRATION WILL BE HELD WILL BE POSTED ON JANUARY 6\, 2025****
URL:https://calabasasklubhouse.org/calendar/enrollment-for-calabasas-residents/
ATTACH;FMTTYPE=image/jpeg:https://calabasasklubhouse.org/wp-content/uploads/2020/01/2425-Resident-Enrollment.jpg
END:VEVENT
END:VCALENDAR